BEGIN:VCALENDAR
VERSION:2.0
PRODID:-//horsealert.local//NONSGML kigkonsult.se iCalcreator 2.10.5//
CALSCALE:GREGORIAN
X-WR-TIMEZONE:Europe/Dublin
BEGIN:VTIMEZONE
TZID:Etc/GMT-1
BEGIN:STANDARD
DTSTART:20010101T000000
TZOFFSETFROM:+0100
TZOFFSETTO:+0100
TZNAME:GMT +01:00
END:STANDARD
END:VTIMEZONE
BEGIN:VEVENT
UID:20260423T133347CEST-4677iRvUCa@horsealert.local
DTSTAMP:20260423T110447Z
CATEGORIES:Horse Alerts
DESCRIPTION:Radisson Blu Hotel Sligo Supporting Sligo GAA Handicap Hurdle \
 (80-95\)
DTSTART:20150818T203000
LOCATION:Eire
SUMMARY:Horse Racing:Radisson Blu Hotel Sligo Supporting Sligo GAA Handicap
  Hurdle \(80-95\)
END:VEVENT
END:VCALENDAR
