BEGIN:VCALENDAR
VERSION:2.0
PRODID:-//horsealert.local//NONSGML kigkonsult.se iCalcreator 2.10.5//
CALSCALE:GREGORIAN
X-WR-TIMEZONE:Europe/Dublin
BEGIN:VTIMEZONE
TZID:Etc/GMT-1
BEGIN:STANDARD
DTSTART:20010101T000000
TZOFFSETFROM:+0100
TZOFFSETTO:+0100
TZNAME:GMT +01:00
END:STANDARD
END:VTIMEZONE
BEGIN:VEVENT
UID:20260423T133349CEST-22170Bv8xm@horsealert.local
DTSTAMP:20260423T110449Z
CATEGORIES:Horse Alerts
DESCRIPTION:totequadpot Four Places In Four Races Median Auction Maiden Sta
 kes
DTSTART:20150817T185500
LOCATION:England
SUMMARY:Horse Racing:totequadpot Four Places In Four Races Median Auction M
 aiden Stakes
END:VEVENT
END:VCALENDAR
