BEGIN:VCALENDAR
VERSION:2.0
PRODID:-//horsealert.local//NONSGML kigkonsult.se iCalcreator 2.10.5//
CALSCALE:GREGORIAN
X-WR-TIMEZONE:Europe/Dublin
BEGIN:VTIMEZONE
TZID:Etc/GMT-1
BEGIN:STANDARD
DTSTART:20010101T000000
TZOFFSETFROM:+0100
TZOFFSETTO:+0100
TZNAME:GMT +01:00
END:STANDARD
END:VTIMEZONE
BEGIN:VEVENT
UID:20260423T133417CEST-00214mHlg2@horsealert.local
DTSTAMP:20260423T110417Z
CATEGORIES:Horse Alerts
DESCRIPTION:Bethany And Faye Manterfield \'Hands And Heels\' Selling Hurdle
  \(Conditionals/Amateurs\)
DTSTART:20150815T181000
LOCATION:England
SUMMARY:Horse Racing:Bethany And Faye Manterfield \'Hands And Heels\' Selli
 ng Hurdle \(Conditionals/Amateurs\)
END:VEVENT
END:VCALENDAR
