BEGIN:VCALENDAR
VERSION:2.0
PRODID:-//horsealert.local//NONSGML kigkonsult.se iCalcreator 2.10.5//
CALSCALE:GREGORIAN
X-WR-TIMEZONE:Europe/Dublin
BEGIN:VTIMEZONE
TZID:Etc/GMT-1
BEGIN:STANDARD
DTSTART:20010101T000000
TZOFFSETFROM:+0100
TZOFFSETTO:+0100
TZNAME:GMT +01:00
END:STANDARD
END:VTIMEZONE
BEGIN:VEVENT
UID:20260423T133415CEST-8125ombvAX@horsealert.local
DTSTAMP:20260423T110415Z
CATEGORIES:Horse Alerts
DESCRIPTION:NEWBURY - Arab Race - Royal Cavalry of Oman Clarendon Internati
 onal Stakes \(Group 2\)
DTSTART:20150815T125500
LOCATION:England
SUMMARY:Horse Racing:NEWBURY - Arab Race - Royal Cavalry of Oman Clarendon 
 International Stakes \(Group 2\)
END:VEVENT
END:VCALENDAR
