BEGIN:VCALENDAR
VERSION:2.0
PRODID:-//horsealert.local//NONSGML kigkonsult.se iCalcreator 2.10.5//
CALSCALE:GREGORIAN
X-WR-TIMEZONE:Europe/Dublin
BEGIN:VTIMEZONE
TZID:Etc/GMT-1
BEGIN:STANDARD
DTSTART:20010101T000000
TZOFFSETFROM:+0100
TZOFFSETTO:+0100
TZNAME:GMT +01:00
END:STANDARD
END:VTIMEZONE
BEGIN:VEVENT
UID:20260423T133630CEST-0981ihwaZu@horsealert.local
DTSTAMP:20260423T110430Z
CATEGORIES:Horse Alerts
DESCRIPTION:Thoroughbred Breeders Association EBF Fillies\' Handicap
DTSTART:20150814T165000
LOCATION:England
SUMMARY:Horse Racing:Thoroughbred Breeders Association EBF Fillies\' Handic
 ap
END:VEVENT
END:VCALENDAR
