BEGIN:VCALENDAR
VERSION:2.0
PRODID:-//horsealert.local//NONSGML kigkonsult.se iCalcreator 2.10.5//
CALSCALE:GREGORIAN
X-WR-TIMEZONE:Europe/Dublin
BEGIN:VTIMEZONE
TZID:Etc/GMT-1
BEGIN:STANDARD
DTSTART:20010101T000000
TZOFFSETFROM:+0100
TZOFFSETTO:+0100
TZNAME:GMT +01:00
END:STANDARD
END:VTIMEZONE
BEGIN:VEVENT
UID:20260423T133418CEST-0925vDKUCa@horsealert.local
DTSTAMP:20260423T110418Z
CATEGORIES:Horse Alerts
DESCRIPTION:G.F.A. Gastech Ltd/Irish Stallion Studs EBF Maiden Stakes
DTSTART:20150814T143000
LOCATION:England
SUMMARY:Horse Racing:G.F.A. Gastech Ltd/Irish Stallion Studs EBF Maiden Sta
 kes
END:VEVENT
END:VCALENDAR
