BEGIN:VCALENDAR
VERSION:2.0
PRODID:-//horsealert.local//NONSGML kigkonsult.se iCalcreator 2.10.5//
CALSCALE:GREGORIAN
X-WR-TIMEZONE:Europe/Dublin
BEGIN:VTIMEZONE
TZID:Etc/GMT-1
BEGIN:STANDARD
DTSTART:20010101T000000
TZOFFSETFROM:+0100
TZOFFSETTO:+0100
TZNAME:GMT +01:00
END:STANDARD
END:VTIMEZONE
BEGIN:VEVENT
UID:20260423T133500CEST-7428aEHa9R@horsealert.local
DTSTAMP:20260423T110400Z
CATEGORIES:Horse Alerts
DESCRIPTION:Don Deadman Memorial EBF Stallions Maiden Stakes \(Str\) \(Plus
  10\) \(Div 1\)
DTSTART:20150814T134500
LOCATION:England
SUMMARY:Horse Racing:Don Deadman Memorial EBF Stallions Maiden Stakes \(Str
 \) \(Plus 10\) \(Div 1\)
END:VEVENT
END:VCALENDAR
