BEGIN:VCALENDAR
VERSION:2.0
PRODID:-//horsealert.local//NONSGML kigkonsult.se iCalcreator 2.10.5//
CALSCALE:GREGORIAN
X-WR-TIMEZONE:Europe/Dublin
BEGIN:VTIMEZONE
TZID:Etc/GMT-1
BEGIN:STANDARD
DTSTART:20010101T000000
TZOFFSETFROM:+0100
TZOFFSETTO:+0100
TZNAME:GMT +01:00
END:STANDARD
END:VTIMEZONE
BEGIN:VEVENT
UID:20260423T133457CEST-6197C0bvs1@horsealert.local
DTSTAMP:20260423T110457Z
CATEGORIES:Horse Alerts
DESCRIPTION:CGA Racing Excellence Apprentice Handicap \(Whips Shall Be Carr
 ied But Not Used\)
DTSTART:20150812T170000
LOCATION:England
SUMMARY:Horse Racing:CGA Racing Excellence Apprentice Handicap \(Whips Shal
 l Be Carried But Not Used\)
END:VEVENT
END:VCALENDAR
