BEGIN:VCALENDAR
VERSION:2.0
PRODID:-//horsealert.local//NONSGML kigkonsult.se iCalcreator 2.10.5//
CALSCALE:GREGORIAN
X-WR-TIMEZONE:Europe/Dublin
BEGIN:VTIMEZONE
TZID:Etc/GMT-1
BEGIN:STANDARD
DTSTART:20010101T000000
TZOFFSETFROM:+0100
TZOFFSETTO:+0100
TZNAME:GMT +01:00
END:STANDARD
END:VTIMEZONE
BEGIN:VEVENT
UID:20260423T133836CEST-8968Td0Xrv@horsealert.local
DTSTAMP:20260423T110436Z
CATEGORIES:Horse Alerts
DESCRIPTION:32Red On The App Store Handicap \(London Mile Series Qualifier\
 )
DTSTART:20150812T204000
LOCATION:England
SUMMARY:Horse Racing:32Red On The App Store Handicap \(London Mile Series Q
 ualifier\)
END:VEVENT
END:VCALENDAR
