BEGIN:VCALENDAR
VERSION:2.0
PRODID:-//horsealert.local//NONSGML kigkonsult.se iCalcreator 2.10.5//
CALSCALE:GREGORIAN
X-WR-TIMEZONE:Europe/Dublin
BEGIN:VTIMEZONE
TZID:Etc/GMT-1
BEGIN:STANDARD
DTSTART:20010101T000000
TZOFFSETFROM:+0100
TZOFFSETTO:+0100
TZNAME:GMT +01:00
END:STANDARD
END:VTIMEZONE
BEGIN:VEVENT
UID:20260423T134008CEST-1320WV6kE9@horsealert.local
DTSTAMP:20260423T110408Z
CATEGORIES:Horse Alerts
DESCRIPTION:Pauline Quirke Academy Of Performing Arts Maiden Auction Stakes
DTSTART:20150809T144500
LOCATION:England
SUMMARY:Horse Racing:Pauline Quirke Academy Of Performing Arts Maiden Aucti
 on Stakes
END:VEVENT
END:VCALENDAR
