BEGIN:VCALENDAR
VERSION:2.0
PRODID:-//horsealert.local//NONSGML kigkonsult.se iCalcreator 2.10.5//
CALSCALE:GREGORIAN
X-WR-TIMEZONE:Europe/Dublin
BEGIN:VTIMEZONE
TZID:Etc/GMT-1
BEGIN:STANDARD
DTSTART:20010101T000000
TZOFFSETFROM:+0100
TZOFFSETTO:+0100
TZNAME:GMT +01:00
END:STANDARD
END:VTIMEZONE
BEGIN:VEVENT
UID:20260423T133710CEST-5436AE1pv6@horsealert.local
DTSTAMP:20260423T110410Z
CATEGORIES:Horse Alerts
DESCRIPTION:Qatar Racing & Equestrian Club Phoenix Sprint Stakes \(Group 3\
 )
DTSTART:20150809T162000
LOCATION:Eire
SUMMARY:Horse Racing:Qatar Racing & Equestrian Club Phoenix Sprint Stakes \
 (Group 3\)
END:VEVENT
END:VCALENDAR
