BEGIN:VCALENDAR
VERSION:2.0
PRODID:-//horsealert.local//NONSGML kigkonsult.se iCalcreator 2.10.5//
CALSCALE:GREGORIAN
X-WR-TIMEZONE:Europe/Dublin
BEGIN:VTIMEZONE
TZID:Etc/GMT-1
BEGIN:STANDARD
DTSTART:20010101T000000
TZOFFSETFROM:+0100
TZOFFSETTO:+0100
TZNAME:GMT +01:00
END:STANDARD
END:VTIMEZONE
BEGIN:VEVENT
UID:20260423T133845CEST-4714jRFUzs@horsealert.local
DTSTAMP:20260423T110445Z
CATEGORIES:Horse Alerts
DESCRIPTION:Pig \'N\' Whistle Pubs & Restaurants New York Maiden Hurdle
DTSTART:20150808T190000
LOCATION:Eire
SUMMARY:Horse Racing:Pig \'N\' Whistle Pubs & Restaurants New York Maiden H
 urdle
END:VEVENT
END:VCALENDAR
