BEGIN:VCALENDAR
VERSION:2.0
PRODID:-//horsealert.local//NONSGML kigkonsult.se iCalcreator 2.10.5//
CALSCALE:GREGORIAN
X-WR-TIMEZONE:Europe/Dublin
BEGIN:VTIMEZONE
TZID:Etc/GMT-1
BEGIN:STANDARD
DTSTART:20010101T000000
TZOFFSETFROM:+0100
TZOFFSETTO:+0100
TZNAME:GMT +01:00
END:STANDARD
END:VTIMEZONE
BEGIN:VEVENT
UID:20260423T134051CEST-3852hpHFhV@horsealert.local
DTSTAMP:20260423T110451Z
CATEGORIES:Horse Alerts
DESCRIPTION:Dubai Duty Free Shergar Cup Classic \(Handicap\)
DTSTART:20150808T151500
LOCATION:England
SUMMARY:Horse Racing:Dubai Duty Free Shergar Cup Classic \(Handicap\)
END:VEVENT
END:VCALENDAR
