BEGIN:VCALENDAR
VERSION:2.0
PRODID:-//horsealert.local//NONSGML kigkonsult.se iCalcreator 2.10.5//
CALSCALE:GREGORIAN
X-WR-TIMEZONE:Europe/Dublin
BEGIN:VTIMEZONE
TZID:Etc/GMT-1
BEGIN:STANDARD
DTSTART:20010101T000000
TZOFFSETFROM:+0100
TZOFFSETTO:+0100
TZNAME:GMT +01:00
END:STANDARD
END:VTIMEZONE
BEGIN:VEVENT
UID:20260423T134006CEST-0133t4w61V@horsealert.local
DTSTAMP:20260423T110406Z
CATEGORIES:Horse Alerts
DESCRIPTION:Clear Financial Advice Client Handicap
DTSTART:20150807T154000
LOCATION:England
SUMMARY:Horse Racing:Clear Financial Advice Client Handicap
END:VEVENT
END:VCALENDAR
