BEGIN:VCALENDAR
VERSION:2.0
PRODID:-//horsealert.local//NONSGML kigkonsult.se iCalcreator 2.10.5//
CALSCALE:GREGORIAN
X-WR-TIMEZONE:Europe/Dublin
BEGIN:VTIMEZONE
TZID:Etc/GMT-1
BEGIN:STANDARD
DTSTART:20010101T000000
TZOFFSETFROM:+0100
TZOFFSETTO:+0100
TZNAME:GMT +01:00
END:STANDARD
END:VTIMEZONE
BEGIN:VEVENT
UID:20260423T134009CEST-1345CLkrVK@horsealert.local
DTSTAMP:20260423T110409Z
CATEGORIES:Horse Alerts
DESCRIPTION:British Stallion Studs EBF Stallions Conditions Stakes \(Plus 1
 0\)
DTSTART:20150807T143000
LOCATION:Scotland
SUMMARY:Horse Racing:British Stallion Studs EBF Stallions Conditions Stakes
  \(Plus 10\)
END:VEVENT
END:VCALENDAR
