BEGIN:VCALENDAR
VERSION:2.0
PRODID:-//horsealert.local//NONSGML kigkonsult.se iCalcreator 2.10.5//
CALSCALE:GREGORIAN
X-WR-TIMEZONE:Europe/Dublin
BEGIN:VTIMEZONE
TZID:Etc/GMT-1
BEGIN:STANDARD
DTSTART:20010101T000000
TZOFFSETFROM:+0100
TZOFFSETTO:+0100
TZNAME:GMT +01:00
END:STANDARD
END:VTIMEZONE
BEGIN:VEVENT
UID:20260423T133511CEST-2288PcSUu6@horsealert.local
DTSTAMP:20260423T110411Z
CATEGORIES:Horse Alerts
DESCRIPTION:\'Stunning\' Apprentice Handicap \(47-70\)
DTSTART:20150806T185500
LOCATION:Eire
SUMMARY:Horse Racing:\'Stunning\' Apprentice Handicap \(47-70\)
END:VEVENT
END:VCALENDAR
