BEGIN:VCALENDAR
VERSION:2.0
PRODID:-//horsealert.local//NONSGML kigkonsult.se iCalcreator 2.10.5//
CALSCALE:GREGORIAN
X-WR-TIMEZONE:Europe/Dublin
BEGIN:VTIMEZONE
TZID:Etc/GMT-1
BEGIN:STANDARD
DTSTART:20010101T000000
TZOFFSETFROM:+0100
TZOFFSETTO:+0100
TZNAME:GMT +01:00
END:STANDARD
END:VTIMEZONE
BEGIN:VEVENT
UID:20260423T133702CEST-0657wU5f56@horsealert.local
DTSTAMP:20260423T110402Z
CATEGORIES:Horse Alerts
DESCRIPTION:Troarn Stakes
DTSTART:20150804T121500
LOCATION:France
SUMMARY:Horse Racing:Troarn Stakes
END:VEVENT
END:VCALENDAR
