BEGIN:VCALENDAR
VERSION:2.0
PRODID:-//horsealert.local//NONSGML kigkonsult.se iCalcreator 2.10.5//
CALSCALE:GREGORIAN
X-WR-TIMEZONE:Europe/Dublin
BEGIN:VTIMEZONE
TZID:Etc/GMT-1
BEGIN:STANDARD
DTSTART:20010101T000000
TZOFFSETFROM:+0100
TZOFFSETTO:+0100
TZNAME:GMT +01:00
END:STANDARD
END:VTIMEZONE
BEGIN:VEVENT
UID:20260423T133813CEST-9841NF7cO1@horsealert.local
DTSTAMP:20260423T110413Z
CATEGORIES:Horse Alerts
DESCRIPTION:Friends Of Francis Hamilton Memorial EBF Stallions Maiden Stake
 s \(Plus 10\)
DTSTART:20150805T144000
LOCATION:England
SUMMARY:Horse Racing:Friends Of Francis Hamilton Memorial EBF Stallions Mai
 den Stakes \(Plus 10\)
END:VEVENT
END:VCALENDAR
