BEGIN:VCALENDAR
VERSION:2.0
PRODID:-//horsealert.local//NONSGML kigkonsult.se iCalcreator 2.10.5//
CALSCALE:GREGORIAN
X-WR-TIMEZONE:Europe/Dublin
BEGIN:VTIMEZONE
TZID:Etc/GMT-1
BEGIN:STANDARD
DTSTART:20010101T000000
TZOFFSETFROM:+0100
TZOFFSETTO:+0100
TZNAME:GMT +01:00
END:STANDARD
END:VTIMEZONE
BEGIN:VEVENT
UID:20260423T134127CEST-6941mEVHNw@horsealert.local
DTSTAMP:20260423T110427Z
CATEGORIES:Horse Alerts
DESCRIPTION:thebookiesoffers.co.uk For The Best Betting Offers Apprentice H
 andicap
DTSTART:20150805T170000
LOCATION:Wales
SUMMARY:Horse Racing:thebookiesoffers.co.uk For The Best Betting Offers App
 rentice Handicap
END:VEVENT
END:VCALENDAR
