BEGIN:VCALENDAR
VERSION:2.0
PRODID:-//horsealert.local//NONSGML kigkonsult.se iCalcreator 2.10.5//
CALSCALE:GREGORIAN
X-WR-TIMEZONE:Europe/Dublin
BEGIN:VTIMEZONE
TZID:Etc/GMT-1
BEGIN:STANDARD
DTSTART:20010101T000000
TZOFFSETFROM:+0100
TZOFFSETTO:+0100
TZNAME:GMT +01:00
END:STANDARD
END:VTIMEZONE
BEGIN:VEVENT
UID:20260423T133657CEST-6931VmLNNs@horsealert.local
DTSTAMP:20260423T110457Z
CATEGORIES:Horse Alerts
DESCRIPTION:Alice In Wonderland Raceday 18th August Fillies\' Handicap
DTSTART:20150804T190500
LOCATION:England
SUMMARY:Horse Racing:Alice In Wonderland Raceday 18th August Fillies\' Hand
 icap
END:VEVENT
END:VCALENDAR
