BEGIN:VCALENDAR
VERSION:2.0
PRODID:-//horsealert.local//NONSGML kigkonsult.se iCalcreator 2.10.5//
CALSCALE:GREGORIAN
X-WR-TIMEZONE:Europe/Dublin
BEGIN:VTIMEZONE
TZID:Etc/GMT-1
BEGIN:STANDARD
DTSTART:20010101T000000
TZOFFSETFROM:+0100
TZOFFSETTO:+0100
TZNAME:GMT +01:00
END:STANDARD
END:VTIMEZONE
BEGIN:VEVENT
UID:20260423T134138CEST-4945SaH7PL@horsealert.local
DTSTAMP:20260423T110438Z
CATEGORIES:Horse Alerts
DESCRIPTION:Betfred Six Best Odds Races Daily Classified Claiming Stakes \(
 Qualifier For 2015 Catterick 12 Furlong Series Final\)
DTSTART:20150804T144500
LOCATION:England
SUMMARY:Horse Racing:Betfred Six Best Odds Races Daily Classified Claiming 
 Stakes \(Qualifier For 2015 Catterick 12 Furlong Series Final\)
END:VEVENT
END:VCALENDAR
