BEGIN:VCALENDAR
VERSION:2.0
PRODID:-//horsealert.local//NONSGML kigkonsult.se iCalcreator 2.10.5//
CALSCALE:GREGORIAN
X-WR-TIMEZONE:Europe/Dublin
BEGIN:VTIMEZONE
TZID:Etc/GMT-1
BEGIN:STANDARD
DTSTART:20010101T000000
TZOFFSETFROM:+0100
TZOFFSETTO:+0100
TZNAME:GMT +01:00
END:STANDARD
END:VTIMEZONE
BEGIN:VEVENT
UID:20260423T134134CEST-4766v5htcK@horsealert.local
DTSTAMP:20260423T110434Z
CATEGORIES:Horse Alerts
DESCRIPTION:GOODWOOD - Arab Race - Qatar International Stakes \(Group 1\)
DTSTART:20150801T173000
LOCATION:England
SUMMARY:Horse Racing:GOODWOOD - Arab Race - Qatar International Stakes \(Gr
 oup 1\)
END:VEVENT
END:VCALENDAR
