BEGIN:VCALENDAR
VERSION:2.0
PRODID:-//horsealert.local//NONSGML kigkonsult.se iCalcreator 2.10.5//
CALSCALE:GREGORIAN
X-WR-TIMEZONE:Europe/Dublin
BEGIN:VTIMEZONE
TZID:Etc/GMT-1
BEGIN:STANDARD
DTSTART:20010101T000000
TZOFFSETFROM:+0100
TZOFFSETTO:+0100
TZNAME:GMT +01:00
END:STANDARD
END:VTIMEZONE
BEGIN:VEVENT
UID:20260423T133707CEST-7992EGFPsV@horsealert.local
DTSTAMP:20260423T110407Z
CATEGORIES:Horse Alerts
DESCRIPTION:Ladbrokes \'Your Sport Your Way\' Flat Race
DTSTART:20150801T180500
LOCATION:Eire
SUMMARY:Horse Racing:Ladbrokes \'Your Sport Your Way\' Flat Race
END:VEVENT
END:VCALENDAR
