BEGIN:VCALENDAR
VERSION:2.0
PRODID:-//horsealert.local//NONSGML kigkonsult.se iCalcreator 2.10.5//
CALSCALE:GREGORIAN
X-WR-TIMEZONE:Europe/Dublin
BEGIN:VTIMEZONE
TZID:Etc/GMT-1
BEGIN:STANDARD
DTSTART:20010101T000000
TZOFFSETFROM:+0100
TZOFFSETTO:+0100
TZNAME:GMT +01:00
END:STANDARD
END:VTIMEZONE
BEGIN:VEVENT
UID:20260423T133503CEST-8725vVtvPE@horsealert.local
DTSTAMP:20260423T110403Z
CATEGORIES:Horse Alerts
DESCRIPTION:Collines Des Normandie Handicap - Awt
DTSTART:20150801T140800
LOCATION:France
SUMMARY:Horse Racing:Collines Des Normandie Handicap - Awt
END:VEVENT
END:VCALENDAR
