BEGIN:VCALENDAR
VERSION:2.0
PRODID:-//horsealert.local//NONSGML kigkonsult.se iCalcreator 2.10.5//
CALSCALE:GREGORIAN
X-WR-TIMEZONE:Europe/Dublin
BEGIN:VTIMEZONE
TZID:Etc/GMT-1
BEGIN:STANDARD
DTSTART:20010101T000000
TZOFFSETFROM:+0100
TZOFFSETTO:+0100
TZNAME:GMT +01:00
END:STANDARD
END:VTIMEZONE
BEGIN:VEVENT
UID:20260423T133505CEST-24230DwjT0@horsealert.local
DTSTAMP:20260423T110405Z
CATEGORIES:Horse Alerts
DESCRIPTION:Qatar Nassau Stakes \(British Champions Series\) \(Fillies\' Gr
 oup 1\)
DTSTART:20150801T151000
LOCATION:England
SUMMARY:Horse Racing:Qatar Nassau Stakes \(British Champions Series\) \(Fil
 lies\' Group 1\)
END:VEVENT
END:VCALENDAR
