BEGIN:VCALENDAR
VERSION:2.0
PRODID:-//horsealert.local//NONSGML kigkonsult.se iCalcreator 2.10.5//
CALSCALE:GREGORIAN
X-WR-TIMEZONE:Europe/Dublin
BEGIN:VTIMEZONE
TZID:Etc/GMT-1
BEGIN:STANDARD
DTSTART:20010101T000000
TZOFFSETFROM:+0100
TZOFFSETTO:+0100
TZNAME:GMT +01:00
END:STANDARD
END:VTIMEZONE
BEGIN:VEVENT
UID:20260423T134000CEST-7744S5e9f2@horsealert.local
DTSTAMP:20260423T110400Z
CATEGORIES:Horse Alerts
DESCRIPTION:Qatar Stewards\' Sprint Stakes \(Handicap\) \(Consolation Race 
 For The Qatar Stewards\' Cup\)
DTSTART:20150801T140000
LOCATION:England
SUMMARY:Horse Racing:Qatar Stewards\' Sprint Stakes \(Handicap\) \(Consolat
 ion Race For The Qatar Stewards\' Cup\)
END:VEVENT
END:VCALENDAR
