BEGIN:VCALENDAR
VERSION:2.0
PRODID:-//horsealert.local//NONSGML kigkonsult.se iCalcreator 2.10.5//
CALSCALE:GREGORIAN
X-WR-TIMEZONE:Europe/Dublin
BEGIN:VTIMEZONE
TZID:Etc/GMT-1
BEGIN:STANDARD
DTSTART:20010101T000000
TZOFFSETFROM:+0100
TZOFFSETTO:+0100
TZNAME:GMT +01:00
END:STANDARD
END:VTIMEZONE
BEGIN:VEVENT
UID:20260423T133542CEST-8365fRHdgA@horsealert.local
DTSTAMP:20260423T110442Z
CATEGORIES:Horse Alerts
DESCRIPTION:Unison And LV=Liverpool Victoria Car Insurance Fillies\' Handic
 ap
DTSTART:20150801T171500
LOCATION:England
SUMMARY:Horse Racing:Unison And LV=Liverpool Victoria Car Insurance Fillies
 \' Handicap
END:VEVENT
END:VCALENDAR
