BEGIN:VCALENDAR
VERSION:2.0
PRODID:-//horsealert.local//NONSGML kigkonsult.se iCalcreator 2.10.5//
CALSCALE:GREGORIAN
X-WR-TIMEZONE:Europe/Dublin
BEGIN:VTIMEZONE
TZID:Etc/GMT-1
BEGIN:STANDARD
DTSTART:20010101T000000
TZOFFSETFROM:+0100
TZOFFSETTO:+0100
TZNAME:GMT +01:00
END:STANDARD
END:VTIMEZONE
BEGIN:VEVENT
UID:20260423T152739CEST-5016a7IRlU@horsealert.local
DTSTAMP:20260423T130439Z
CATEGORIES:Horse Alerts
DESCRIPTION:Guinness Race
DTSTART:20150731T203000
LOCATION:Eire
SUMMARY:Horse Racing:Guinness Race
END:VEVENT
END:VCALENDAR
