BEGIN:VCALENDAR
VERSION:2.0
PRODID:-//horsealert.local//NONSGML kigkonsult.se iCalcreator 2.10.5//
CALSCALE:GREGORIAN
X-WR-TIMEZONE:Europe/Dublin
BEGIN:VTIMEZONE
TZID:Etc/GMT-1
BEGIN:STANDARD
DTSTART:20010101T000000
TZOFFSETFROM:+0100
TZOFFSETTO:+0100
TZNAME:GMT +01:00
END:STANDARD
END:VTIMEZONE
BEGIN:VEVENT
UID:20260423T152758CEST-769696nUxl@horsealert.local
DTSTAMP:20260423T130458Z
CATEGORIES:Horse Alerts
DESCRIPTION:Wilkinson And Associates Handicap
DTSTART:20150731T192000
LOCATION:Scotland
SUMMARY:Horse Racing:Wilkinson And Associates Handicap
END:VEVENT
END:VCALENDAR
