BEGIN:VCALENDAR
VERSION:2.0
PRODID:-//horsealert.local//NONSGML kigkonsult.se iCalcreator 2.10.5//
CALSCALE:GREGORIAN
X-WR-TIMEZONE:Europe/Dublin
BEGIN:VTIMEZONE
TZID:Etc/GMT-1
BEGIN:STANDARD
DTSTART:20010101T000000
TZOFFSETFROM:+0100
TZOFFSETTO:+0100
TZNAME:GMT +01:00
END:STANDARD
END:VTIMEZONE
BEGIN:VEVENT
UID:20260423T152742CEST-77278aar4n@horsealert.local
DTSTAMP:20260423T130442Z
CATEGORIES:Horse Alerts
DESCRIPTION:Betfred Mile \(Heritage Handicap\) \(Formerly Known As The Gold
 en Mile\)
DTSTART:20150731T151000
LOCATION:England
SUMMARY:Horse Racing:Betfred Mile \(Heritage Handicap\) \(Formerly Known As
  The Golden Mile\)
END:VEVENT
END:VCALENDAR
