BEGIN:VCALENDAR
VERSION:2.0
PRODID:-//horsealert.local//NONSGML kigkonsult.se iCalcreator 2.10.5//
CALSCALE:GREGORIAN
X-WR-TIMEZONE:Europe/Dublin
BEGIN:VTIMEZONE
TZID:Etc/GMT-1
BEGIN:STANDARD
DTSTART:20010101T000000
TZOFFSETFROM:+0100
TZOFFSETTO:+0100
TZNAME:GMT +01:00
END:STANDARD
END:VTIMEZONE
BEGIN:VEVENT
UID:20260423T152125CEST-5690Zju94S@horsealert.local
DTSTAMP:20260423T130425Z
CATEGORIES:Horse Alerts
DESCRIPTION:\'Cookie\'s Mid-Life Crisis \(CAC\) Celebration\' Fillies\' Han
 dicap
DTSTART:20150731T201500
LOCATION:England
SUMMARY:Horse Racing:\'Cookie\'s Mid-Life Crisis \(CAC\) Celebration\' Fill
 ies\' Handicap
END:VEVENT
END:VCALENDAR
