BEGIN:VCALENDAR
VERSION:2.0
PRODID:-//horsealert.local//NONSGML kigkonsult.se iCalcreator 2.10.5//
CALSCALE:GREGORIAN
X-WR-TIMEZONE:Europe/Dublin
BEGIN:VTIMEZONE
TZID:Etc/GMT-1
BEGIN:STANDARD
DTSTART:20010101T000000
TZOFFSETFROM:+0100
TZOFFSETTO:+0100
TZNAME:GMT +01:00
END:STANDARD
END:VTIMEZONE
BEGIN:VEVENT
UID:20260423T152652CEST-6668nnoSLN@horsealert.local
DTSTAMP:20260423T130452Z
CATEGORIES:Horse Alerts
DESCRIPTION:RoR Racecourse To Racecourse Ride Novices\' Handicap Hurdle
DTSTART:20150730T163000
LOCATION:England
SUMMARY:Horse Racing:RoR Racecourse To Racecourse Ride Novices\' Handicap H
 urdle
END:VEVENT
END:VCALENDAR
