BEGIN:VCALENDAR
VERSION:2.0
PRODID:-//horsealert.local//NONSGML kigkonsult.se iCalcreator 2.10.5//
CALSCALE:GREGORIAN
X-WR-TIMEZONE:Europe/Dublin
BEGIN:VTIMEZONE
TZID:Etc/GMT-1
BEGIN:STANDARD
DTSTART:20010101T000000
TZOFFSETFROM:+0100
TZOFFSETTO:+0100
TZNAME:GMT +01:00
END:STANDARD
END:VTIMEZONE
BEGIN:VEVENT
UID:20260423T152751CEST-4848E0M462@horsealert.local
DTSTAMP:20260423T130451Z
CATEGORIES:Horse Alerts
DESCRIPTION:Angel Hotel Pershore Pensham Selling Hurdle
DTSTART:20150728T193500
LOCATION:England
SUMMARY:Horse Racing:Angel Hotel Pershore Pensham Selling Hurdle
END:VEVENT
END:VCALENDAR
