BEGIN:VCALENDAR
VERSION:2.0
PRODID:-//horsealert.local//NONSGML kigkonsult.se iCalcreator 2.10.5//
CALSCALE:GREGORIAN
X-WR-TIMEZONE:Europe/Dublin
BEGIN:VTIMEZONE
TZID:Etc/GMT-1
BEGIN:STANDARD
DTSTART:20010101T000000
TZOFFSETFROM:+0100
TZOFFSETTO:+0100
TZNAME:GMT +01:00
END:STANDARD
END:VTIMEZONE
BEGIN:VEVENT
UID:20260423T152613CEST-1231EU5ttD@horsealert.local
DTSTAMP:20260423T130413Z
CATEGORIES:Horse Alerts
DESCRIPTION:Qatar Sussex Stakes \(British Champions Series\) \(Supported By
  Qatar Petroleum\) \(Group 1\)
DTSTART:20150729T151000
LOCATION:England
SUMMARY:Horse Racing:Qatar Sussex Stakes \(British Champions Series\) \(Sup
 ported By Qatar Petroleum\) \(Group 1\)
END:VEVENT
END:VCALENDAR
