BEGIN:VCALENDAR
VERSION:2.0
PRODID:-//horsealert.local//NONSGML kigkonsult.se iCalcreator 2.10.5//
CALSCALE:GREGORIAN
X-WR-TIMEZONE:Europe/Dublin
BEGIN:VTIMEZONE
TZID:Etc/GMT-1
BEGIN:STANDARD
DTSTART:20010101T000000
TZOFFSETFROM:+0100
TZOFFSETTO:+0100
TZNAME:GMT +01:00
END:STANDARD
END:VTIMEZONE
BEGIN:VEVENT
UID:20260423T152737CEST-9454f9x0K7@horsealert.local
DTSTAMP:20260423T130437Z
CATEGORIES:Horse Alerts
DESCRIPTION:Topaz Mile Handicap \(Premier Handicap\)
DTSTART:20150728T185000
LOCATION:Eire
SUMMARY:Horse Racing:Topaz Mile Handicap \(Premier Handicap\)
END:VEVENT
END:VCALENDAR
