BEGIN:VCALENDAR
VERSION:2.0
PRODID:-//horsealert.local//NONSGML kigkonsult.se iCalcreator 2.10.5//
CALSCALE:GREGORIAN
X-WR-TIMEZONE:Europe/Dublin
BEGIN:VTIMEZONE
TZID:Etc/GMT-1
BEGIN:STANDARD
DTSTART:20010101T000000
TZOFFSETFROM:+0100
TZOFFSETTO:+0100
TZNAME:GMT +01:00
END:STANDARD
END:VTIMEZONE
BEGIN:VEVENT
UID:20260423T152851CEST-6822ju5biF@horsealert.local
DTSTAMP:20260423T130451Z
CATEGORIES:Horse Alerts
DESCRIPTION:Collingwood Learner Driver Insurance \'Beeswing\' Handicap
DTSTART:20150725T152000
LOCATION:England
SUMMARY:Horse Racing:Collingwood Learner Driver Insurance \'Beeswing\' Hand
 icap
END:VEVENT
END:VCALENDAR
