BEGIN:VCALENDAR
VERSION:2.0
PRODID:-//horsealert.local//NONSGML kigkonsult.se iCalcreator 2.10.5//
CALSCALE:GREGORIAN
X-WR-TIMEZONE:Europe/Dublin
BEGIN:VTIMEZONE
TZID:Etc/GMT-1
BEGIN:STANDARD
DTSTART:20010101T000000
TZOFFSETFROM:+0100
TZOFFSETTO:+0100
TZNAME:GMT +01:00
END:STANDARD
END:VTIMEZONE
BEGIN:VEVENT
UID:20260423T152800CEST-97631CXPXf@horsealert.local
DTSTAMP:20260423T130400Z
CATEGORIES:Horse Alerts
DESCRIPTION:Unibet Distances Betting Every Race Apprentice Handicap \(Jocke
 y Club Grassroots Middle Distance Series Qualifier\)
DTSTART:20150722T180500
LOCATION:England
SUMMARY:Horse Racing:Unibet Distances Betting Every Race Apprentice Handica
 p \(Jockey Club Grassroots Middle Distance Series Qualifier\)
END:VEVENT
END:VCALENDAR
