BEGIN:VCALENDAR
VERSION:2.0
PRODID:-//horsealert.local//NONSGML kigkonsult.se iCalcreator 2.10.5//
CALSCALE:GREGORIAN
X-WR-TIMEZONE:Europe/Dublin
BEGIN:VTIMEZONE
TZID:Etc/GMT-1
BEGIN:STANDARD
DTSTART:20010101T000000
TZOFFSETFROM:+0100
TZOFFSETTO:+0100
TZNAME:GMT +01:00
END:STANDARD
END:VTIMEZONE
BEGIN:VEVENT
UID:20260423T152613CEST-0115iIcTZb@horsealert.local
DTSTAMP:20260423T130413Z
CATEGORIES:Horse Alerts
DESCRIPTION:catterickbridge.co.uk Apprentice Training Series Handicap \(Rac
 ing Excellence Initiative\)
DTSTART:20150722T170000
LOCATION:England
SUMMARY:Horse Racing:catterickbridge.co.uk Apprentice Training Series Handi
 cap \(Racing Excellence Initiative\)
END:VEVENT
END:VCALENDAR
