BEGIN:VCALENDAR
VERSION:2.0
PRODID:-//horsealert.local//NONSGML kigkonsult.se iCalcreator 2.10.5//
CALSCALE:GREGORIAN
X-WR-TIMEZONE:Europe/Dublin
BEGIN:VTIMEZONE
TZID:Etc/GMT-1
BEGIN:STANDARD
DTSTART:20010101T000000
TZOFFSETFROM:+0100
TZOFFSETTO:+0100
TZNAME:GMT +01:00
END:STANDARD
END:VTIMEZONE
BEGIN:VEVENT
UID:20260423T152254CEST-0200U5eCJB@horsealert.local
DTSTAMP:20260423T130454Z
CATEGORIES:Horse Alerts
DESCRIPTION:Gill And Terry Wedding Celebration\, 31 July Novices\' Chase
DTSTART:20150719T152500
LOCATION:England
SUMMARY:Horse Racing:Gill And Terry Wedding Celebration\, 31 July Novices\'
  Chase
END:VEVENT
END:VCALENDAR
