BEGIN:VCALENDAR
VERSION:2.0
PRODID:-//horsealert.local//NONSGML kigkonsult.se iCalcreator 2.10.5//
CALSCALE:GREGORIAN
X-WR-TIMEZONE:Europe/Dublin
BEGIN:VTIMEZONE
TZID:Etc/GMT-1
BEGIN:STANDARD
DTSTART:20010101T000000
TZOFFSETFROM:+0100
TZOFFSETTO:+0100
TZNAME:GMT +01:00
END:STANDARD
END:VTIMEZONE
BEGIN:VEVENT
UID:20260423T152346CEST-7972SVeARI@horsealert.local
DTSTAMP:20260423T130446Z
CATEGORIES:Horse Alerts
DESCRIPTION:Michael Moore Car Sales Mercedes-Benz Handicap Hurdle \(80-102\
 )
DTSTART:20150717T192500
LOCATION:Eire
SUMMARY:Horse Racing:Michael Moore Car Sales Mercedes-Benz Handicap Hurdle 
 \(80-102\)
END:VEVENT
END:VCALENDAR
