BEGIN:VCALENDAR
VERSION:2.0
PRODID:-//horsealert.local//NONSGML kigkonsult.se iCalcreator 2.10.5//
CALSCALE:GREGORIAN
X-WR-TIMEZONE:Europe/Dublin
BEGIN:VTIMEZONE
TZID:Etc/GMT-1
BEGIN:STANDARD
DTSTART:20010101T000000
TZOFFSETFROM:+0100
TZOFFSETTO:+0100
TZNAME:GMT +01:00
END:STANDARD
END:VTIMEZONE
BEGIN:VEVENT
UID:20260423T152428CEST-1102pCJ2i1@horsealert.local
DTSTAMP:20260423T130428Z
CATEGORIES:Horse Alerts
DESCRIPTION:Pay For Your Raceday With Rewards4Racing Maiden Fillies\' Stake
 s
DTSTART:20150717T160500
LOCATION:England
SUMMARY:Horse Racing:Pay For Your Raceday With Rewards4Racing Maiden Fillie
 s\' Stakes
END:VEVENT
END:VCALENDAR
