BEGIN:VCALENDAR
VERSION:2.0
PRODID:-//horsealert.local//NONSGML kigkonsult.se iCalcreator 2.10.5//
CALSCALE:GREGORIAN
X-WR-TIMEZONE:Europe/Dublin
BEGIN:VTIMEZONE
TZID:Etc/GMT-1
BEGIN:STANDARD
DTSTART:20010101T000000
TZOFFSETFROM:+0100
TZOFFSETTO:+0100
TZNAME:GMT +01:00
END:STANDARD
END:VTIMEZONE
BEGIN:VEVENT
UID:20260423T152736CEST-8602zLBBoc@horsealert.local
DTSTAMP:20260423T130436Z
CATEGORIES:Horse Alerts
DESCRIPTION:Highclere Thoroughbred Racing EBF Stallions Maiden Stakes \(Plu
 s10\) \(Str\)
DTSTART:20150717T140000
LOCATION:England
SUMMARY:Horse Racing:Highclere Thoroughbred Racing EBF Stallions Maiden Sta
 kes \(Plus10\) \(Str\)
END:VEVENT
END:VCALENDAR
