BEGIN:VCALENDAR
VERSION:2.0
PRODID:-//horsealert.local//NONSGML kigkonsult.se iCalcreator 2.10.5//
CALSCALE:GREGORIAN
X-WR-TIMEZONE:Europe/Dublin
BEGIN:VTIMEZONE
TZID:Etc/GMT-1
BEGIN:STANDARD
DTSTART:20010101T000000
TZOFFSETFROM:+0100
TZOFFSETTO:+0100
TZNAME:GMT +01:00
END:STANDARD
END:VTIMEZONE
BEGIN:VEVENT
UID:20260423T152043CEST-4899v3XxTP@horsealert.local
DTSTAMP:20260423T130443Z
CATEGORIES:Horse Alerts
DESCRIPTION:Aherns BMW Castleisland Novice Hurdle
DTSTART:20150716T140500
LOCATION:Eire
SUMMARY:Horse Racing:Aherns BMW Castleisland Novice Hurdle
END:VEVENT
END:VCALENDAR
