BEGIN:VCALENDAR
VERSION:2.0
PRODID:-//horsealert.local//NONSGML kigkonsult.se iCalcreator 2.10.5//
CALSCALE:GREGORIAN
X-WR-TIMEZONE:Europe/Dublin
BEGIN:VTIMEZONE
TZID:Etc/GMT-1
BEGIN:STANDARD
DTSTART:20010101T000000
TZOFFSETFROM:+0100
TZOFFSETTO:+0100
TZNAME:GMT +01:00
END:STANDARD
END:VTIMEZONE
BEGIN:VEVENT
UID:20260423T152216CEST-6047FoU1jT@horsealert.local
DTSTAMP:20260423T130416Z
CATEGORIES:Horse Alerts
DESCRIPTION:Free Bets On Your Mobile At thebookiesoffers.co.uk Handicap \(D
 iv 2\)
DTSTART:20150716T160500
LOCATION:Wales
SUMMARY:Horse Racing:Free Bets On Your Mobile At thebookiesoffers.co.uk Han
 dicap \(Div 2\)
END:VEVENT
END:VCALENDAR
