BEGIN:VCALENDAR
VERSION:2.0
PRODID:-//horsealert.local//NONSGML kigkonsult.se iCalcreator 2.10.5//
CALSCALE:GREGORIAN
X-WR-TIMEZONE:Europe/Dublin
BEGIN:VTIMEZONE
TZID:Etc/GMT-1
BEGIN:STANDARD
DTSTART:20010101T000000
TZOFFSETFROM:+0100
TZOFFSETTO:+0100
TZNAME:GMT +01:00
END:STANDARD
END:VTIMEZONE
BEGIN:VEVENT
UID:20260423T151947CEST-8990wD7fV8@horsealert.local
DTSTAMP:20260423T130447Z
CATEGORIES:Horse Alerts
DESCRIPTION:All The Best Free Bets At thebookiesoffers.co.uk Median Auction
  Maiden Stakes
DTSTART:20150716T143000
LOCATION:Wales
SUMMARY:Horse Racing:All The Best Free Bets At thebookiesoffers.co.uk Media
 n Auction Maiden Stakes
END:VEVENT
END:VCALENDAR
