BEGIN:VCALENDAR
VERSION:2.0
PRODID:-//horsealert.local//NONSGML kigkonsult.se iCalcreator 2.10.5//
CALSCALE:GREGORIAN
X-WR-TIMEZONE:Europe/Dublin
BEGIN:VTIMEZONE
TZID:Etc/GMT-1
BEGIN:STANDARD
DTSTART:20010101T000000
TZOFFSETFROM:+0100
TZOFFSETTO:+0100
TZNAME:GMT +01:00
END:STANDARD
END:VTIMEZONE
BEGIN:VEVENT
UID:20260423T151942CEST-2401XS5BMW@horsealert.local
DTSTAMP:20260423T130442Z
CATEGORIES:Horse Alerts
DESCRIPTION:Ken Boulton 50th Anniversary Handicap Hurdle \(For The Ken Boul
 ton Memorial Trophy\)
DTSTART:20150715T155000
LOCATION:England
SUMMARY:Horse Racing:Ken Boulton 50th Anniversary Handicap Hurdle \(For The
  Ken Boulton Memorial Trophy\)
END:VEVENT
END:VCALENDAR
