BEGIN:VCALENDAR
VERSION:2.0
PRODID:-//horsealert.local//NONSGML kigkonsult.se iCalcreator 2.10.5//
CALSCALE:GREGORIAN
X-WR-TIMEZONE:Europe/Dublin
BEGIN:VTIMEZONE
TZID:Etc/GMT-1
BEGIN:STANDARD
DTSTART:20010101T000000
TZOFFSETFROM:+0100
TZOFFSETTO:+0100
TZNAME:GMT +01:00
END:STANDARD
END:VTIMEZONE
BEGIN:VEVENT
UID:20260423T152131CEST-2466gp82Xv@horsealert.local
DTSTAMP:20260423T130431Z
CATEGORIES:Horse Alerts
DESCRIPTION:Download The Unibet Racing App Maiden Auction Stakes
DTSTART:20150715T191000
LOCATION:England
SUMMARY:Horse Racing:Download The Unibet Racing App Maiden Auction Stakes
END:VEVENT
END:VCALENDAR
