BEGIN:VCALENDAR
VERSION:2.0
PRODID:-//horsealert.local//NONSGML kigkonsult.se iCalcreator 2.10.5//
CALSCALE:GREGORIAN
X-WR-TIMEZONE:Europe/Dublin
BEGIN:VTIMEZONE
TZID:Etc/GMT-1
BEGIN:STANDARD
DTSTART:20010101T000000
TZOFFSETFROM:+0100
TZOFFSETTO:+0100
TZNAME:GMT +01:00
END:STANDARD
END:VTIMEZONE
BEGIN:VEVENT
UID:20260423T151942CEST-3095LT1vd8@horsealert.local
DTSTAMP:20260423T130442Z
CATEGORIES:Horse Alerts
DESCRIPTION:British Stallion Studs EBF Maiden Fillies\' Stakes \(Plus10\) \
 (Div 1\)
DTSTART:20150715T134000
LOCATION:England
SUMMARY:Horse Racing:British Stallion Studs EBF Maiden Fillies\' Stakes \(P
 lus10\) \(Div 1\)
END:VEVENT
END:VCALENDAR
