BEGIN:VCALENDAR
VERSION:2.0
PRODID:-//horsealert.local//NONSGML kigkonsult.se iCalcreator 2.10.5//
CALSCALE:GREGORIAN
X-WR-TIMEZONE:Europe/Dublin
BEGIN:VTIMEZONE
TZID:Etc/GMT-1
BEGIN:STANDARD
DTSTART:20010101T000000
TZOFFSETFROM:+0100
TZOFFSETTO:+0100
TZNAME:GMT +01:00
END:STANDARD
END:VTIMEZONE
BEGIN:VEVENT
UID:20260423T152130CEST-61069huKpK@horsealert.local
DTSTAMP:20260423T130430Z
CATEGORIES:Horse Alerts
DESCRIPTION:Yorkshire Racing Summer Festival 18th-26th July Handicap
DTSTART:20150714T211000
LOCATION:England
SUMMARY:Horse Racing:Yorkshire Racing Summer Festival 18th-26th July Handic
 ap
END:VEVENT
END:VCALENDAR
