BEGIN:VCALENDAR
VERSION:2.0
PRODID:-//horsealert.local//NONSGML kigkonsult.se iCalcreator 2.10.5//
CALSCALE:GREGORIAN
X-WR-TIMEZONE:Europe/Dublin
BEGIN:VTIMEZONE
TZID:Etc/GMT-1
BEGIN:STANDARD
DTSTART:20010101T000000
TZOFFSETFROM:+0100
TZOFFSETTO:+0100
TZNAME:GMT +01:00
END:STANDARD
END:VTIMEZONE
BEGIN:VEVENT
UID:20260423T151947CEST-3524GT1DUn@horsealert.local
DTSTAMP:20260423T130447Z
CATEGORIES:Horse Alerts
DESCRIPTION:Today\'s Racing Just 10 With Racing UK Apprentice Handicap
DTSTART:20150713T170500
LOCATION:Scotland
SUMMARY:Horse Racing:Today\'s Racing Just 10 With Racing UK Apprentice Hand
 icap
END:VEVENT
END:VCALENDAR
